BEGIN:VCALENDAR
VERSION:2.0
PRODID:-//Lebanon County Library System - ECPv6.15.17.1//NONSGML v1.0//EN
CALSCALE:GREGORIAN
METHOD:PUBLISH
X-ORIGINAL-URL:https://lclibs.org
X-WR-CALDESC:Events for Lebanon County Library System
REFRESH-INTERVAL;VALUE=DURATION:PT1H
X-Robots-Tag:noindex
X-PUBLISHED-TTL:PT1H
BEGIN:VTIMEZONE
TZID:America/New_York
BEGIN:DAYLIGHT
TZOFFSETFROM:-0500
TZOFFSETTO:-0400
TZNAME:EDT
DTSTART:20290311T070000
END:DAYLIGHT
BEGIN:STANDARD
TZOFFSETFROM:-0400
TZOFFSETTO:-0500
TZNAME:EST
DTSTART:20291104T060000
END:STANDARD
BEGIN:DAYLIGHT
TZOFFSETFROM:-0500
TZOFFSETTO:-0400
TZNAME:EDT
DTSTART:20300310T070000
END:DAYLIGHT
BEGIN:STANDARD
TZOFFSETFROM:-0400
TZOFFSETTO:-0500
TZNAME:EST
DTSTART:20301103T060000
END:STANDARD
BEGIN:DAYLIGHT
TZOFFSETFROM:-0500
TZOFFSETTO:-0400
TZNAME:EDT
DTSTART:20310309T070000
END:DAYLIGHT
BEGIN:STANDARD
TZOFFSETFROM:-0400
TZOFFSETTO:-0500
TZNAME:EST
DTSTART:20311102T060000
END:STANDARD
END:VTIMEZONE
BEGIN:VEVENT
DTSTART;TZID=America/New_York:20300819T153000
DTEND;TZID=America/New_York:20300819T163000
DTSTAMP:20260420T090800
CREATED:20240212T194936Z
LAST-MODIFIED:20251223T210726Z
UID:10008519-1913383800-1913387400@lclibs.org
SUMMARY:PokeMondays @MCL
DESCRIPTION:Bring your deck or devices to play. No previous experience required!
URL:https://lclibs.org/event/pokemondays-mcl/2030-08-19/
LOCATION:Myerstown Community Library\, 199 N College St\, Myerstown\, PA\, 17067\, United States
CATEGORIES:Children,Myerstown Community Library
ORGANIZER;CN="Sarah Bair":MAILTO:sbair@lclibs.org
GEO:40.3777298;-76.3066567
X-APPLE-STRUCTURED-LOCATION;VALUE=URI;X-ADDRESS=Myerstown Community Library 199 N College St Myerstown PA 17067 United States;X-APPLE-RADIUS=500;X-TITLE=199 N College St:geo:-76.3066567,40.3777298
END:VEVENT
BEGIN:VEVENT
DTSTART;TZID=America/New_York:20300820T183000
DTEND;TZID=America/New_York:20300820T200000
DTSTAMP:20260420T090800
CREATED:20251219T174825Z
LAST-MODIFIED:20251219T174826Z
UID:10008320-1913481000-1913486400@lclibs.org
SUMMARY:Library Board Meeting @MCL
DESCRIPTION:The Library Board meets on the third Tuesday of each month at 6:30pm. These meetings are open to the public and are subject to change without notice.
URL:https://lclibs.org/event/library-board-meeting-mcl-2/2030-08-20/
LOCATION:Myerstown Community Library\, 199 N College St\, Myerstown\, PA\, 17067\, United States
CATEGORIES:Board Meeting,Myerstown Community Library
ORGANIZER;CN="Sarah Bair":MAILTO:sbair@lclibs.org
GEO:40.3777298;-76.3066567
X-APPLE-STRUCTURED-LOCATION;VALUE=URI;X-ADDRESS=Myerstown Community Library 199 N College St Myerstown PA 17067 United States;X-APPLE-RADIUS=500;X-TITLE=199 N College St:geo:-76.3066567,40.3777298
END:VEVENT
BEGIN:VEVENT
DTSTART;TZID=America/New_York:20300821T130000
DTEND;TZID=America/New_York:20300821T150000
DTSTAMP:20260420T090800
CREATED:20251222T192832Z
LAST-MODIFIED:20251222T192832Z
UID:10008500-1913547600-1913554800@lclibs.org
SUMMARY:Lace Lovers @MCL
DESCRIPTION:A place to talk\, ask questions\, and share your love of lace\, knitting\, crocheting and everything that goes with it. No registration required!
URL:https://lclibs.org/event/lace-lovers-mcl-4/2030-08-21/
LOCATION:Myerstown Community Library\, 199 N College St\, Myerstown\, PA\, 17067\, United States
CATEGORIES:Adult program,Crafts,Lebanon County Libraries,Myerstown Community Library
ORGANIZER;CN="Sarah Bair":MAILTO:sbair@lclibs.org
GEO:40.3777298;-76.3066567
X-APPLE-STRUCTURED-LOCATION;VALUE=URI;X-ADDRESS=Myerstown Community Library 199 N College St Myerstown PA 17067 United States;X-APPLE-RADIUS=500;X-TITLE=199 N College St:geo:-76.3066567,40.3777298
END:VEVENT
BEGIN:VEVENT
DTSTART;TZID=America/New_York:20300822T173000
DTEND;TZID=America/New_York:20300822T183000
DTSTAMP:20260420T090800
CREATED:20251224T154323Z
LAST-MODIFIED:20260113T003145Z
UID:10008579-1913650200-1913653800@lclibs.org
SUMMARY:Explorations in Music @MCL
DESCRIPTION:Join us for discussions on genre\, influence\, and music culture! Topics change monthly. No registration required. Lead by Greg Underkoffler.
URL:https://lclibs.org/event/explorations-in-music-mcl-3/2030-08-22/
LOCATION:Myerstown Community Library\, 199 N College St\, Myerstown\, PA\, 17067\, United States
CATEGORIES:Adult program,Lebanon County Libraries,Music,Myerstown Community Library
ORGANIZER;CN="Sarah Bair":MAILTO:sbair@lclibs.org
GEO:40.3777298;-76.3066567
X-APPLE-STRUCTURED-LOCATION;VALUE=URI;X-ADDRESS=Myerstown Community Library 199 N College St Myerstown PA 17067 United States;X-APPLE-RADIUS=500;X-TITLE=199 N College St:geo:-76.3066567,40.3777298
END:VEVENT
BEGIN:VEVENT
DTSTART;TZID=America/New_York:20300823T103000
DTEND;TZID=America/New_York:20300823T113000
DTSTAMP:20260420T090800
CREATED:20240301T221203Z
LAST-MODIFIED:20260112T225752Z
UID:10008182-1913711400-1913715000@lclibs.org
SUMMARY:Preschool Story Time @ MCL
DESCRIPTION:Join in the fun with stories\, songs\, and more that encourage development of Early Literacy skills in young children.
URL:https://lclibs.org/event/preschool-story-time-mcl/2030-08-23/
LOCATION:Myerstown Community Library\, 199 N College St\, Myerstown\, PA\, 17067\, United States
CATEGORIES:Children,Myerstown Community Library,Storytime
ORGANIZER;CN="Sarah Bair":MAILTO:sbair@lclibs.org
GEO:40.3777298;-76.3066567
X-APPLE-STRUCTURED-LOCATION;VALUE=URI;X-ADDRESS=Myerstown Community Library 199 N College St Myerstown PA 17067 United States;X-APPLE-RADIUS=500;X-TITLE=199 N College St:geo:-76.3066567,40.3777298
END:VEVENT
BEGIN:VEVENT
DTSTART;TZID=America/New_York:20300830T103000
DTEND;TZID=America/New_York:20300830T113000
DTSTAMP:20260420T090800
CREATED:20240301T221203Z
LAST-MODIFIED:20260112T225752Z
UID:10008183-1914316200-1914319800@lclibs.org
SUMMARY:Preschool Story Time @ MCL
DESCRIPTION:Join in the fun with stories\, songs\, and more that encourage development of Early Literacy skills in young children.
URL:https://lclibs.org/event/preschool-story-time-mcl/2030-08-30/
LOCATION:Myerstown Community Library\, 199 N College St\, Myerstown\, PA\, 17067\, United States
CATEGORIES:Children,Myerstown Community Library,Storytime
ORGANIZER;CN="Sarah Bair":MAILTO:sbair@lclibs.org
GEO:40.3777298;-76.3066567
X-APPLE-STRUCTURED-LOCATION;VALUE=URI;X-ADDRESS=Myerstown Community Library 199 N College St Myerstown PA 17067 United States;X-APPLE-RADIUS=500;X-TITLE=199 N College St:geo:-76.3066567,40.3777298
END:VEVENT
BEGIN:VEVENT
DTSTART;TZID=America/New_York:20300831T110000
DTEND;TZID=America/New_York:20300831T120000
DTSTAMP:20260420T090800
CREATED:20240212T202017Z
LAST-MODIFIED:20260113T002217Z
UID:10008625-1914404400-1914408000@lclibs.org
SUMMARY:BYOB Book Club @MCL
DESCRIPTION:BYOB – Bring Your Own Book Club! We discuss our favorite books and current reads.
URL:https://lclibs.org/event/byob-book-club-mcl/2030-08-31/
LOCATION:Myerstown Community Library\, 199 N College St\, Myerstown\, PA\, 17067\, United States
CATEGORIES:Adult program,Book Club,Book Discussion,Myerstown Community Library
ORGANIZER;CN="Sarah Bair":MAILTO:sbair@lclibs.org
GEO:40.3777298;-76.3066567
X-APPLE-STRUCTURED-LOCATION;VALUE=URI;X-ADDRESS=Myerstown Community Library 199 N College St Myerstown PA 17067 United States;X-APPLE-RADIUS=500;X-TITLE=199 N College St:geo:-76.3066567,40.3777298
END:VEVENT
BEGIN:VEVENT
DTSTART;TZID=America/New_York:20300902T153000
DTEND;TZID=America/New_York:20300902T163000
DTSTAMP:20260420T090800
CREATED:20251219T170343Z
LAST-MODIFIED:20251219T170343Z
UID:10008253-1914593400-1914597000@lclibs.org
SUMMARY:BYOB Teen+ @MCL
DESCRIPTION:Are you into YA books and graphic novels? Do you want to chat about what you are reading? Join us for a fun Bring Your Own Book\, book club! Open to grades 9th and up. No registration required. Themes change monthly\, or come prepared to discuss your most recent read!
URL:https://lclibs.org/event/byob-teen-mcl/2030-09-02/
LOCATION:Myerstown Community Library\, 199 N College St\, Myerstown\, PA\, 17067\, United States
CATEGORIES:Book Club,Book Discussion,Lebanon County Libraries,Myerstown Community Library,Teens
ORGANIZER;CN="Sarah Bair":MAILTO:sbair@lclibs.org
GEO:40.3777298;-76.3066567
X-APPLE-STRUCTURED-LOCATION;VALUE=URI;X-ADDRESS=Myerstown Community Library 199 N College St Myerstown PA 17067 United States;X-APPLE-RADIUS=500;X-TITLE=199 N College St:geo:-76.3066567,40.3777298
END:VEVENT
BEGIN:VEVENT
DTSTART;TZID=America/New_York:20300904T130000
DTEND;TZID=America/New_York:20300904T150000
DTSTAMP:20260420T090800
CREATED:20251222T191720Z
LAST-MODIFIED:20251222T191720Z
UID:10008381-1914757200-1914764400@lclibs.org
SUMMARY:Lace Lovers @MCL
DESCRIPTION:A place to talk\, ask questions\, and share your love of lace\, knitting\, crocheting and everything that goes with it. No registration required!
URL:https://lclibs.org/event/lace-lovers-mcl-3/2030-09-04/
LOCATION:Myerstown Community Library\, 199 N College St\, Myerstown\, PA\, 17067\, United States
CATEGORIES:Adult program,Crafts,Lebanon County Libraries,Myerstown Community Library
ORGANIZER;CN="Sarah Bair":MAILTO:sbair@lclibs.org
GEO:40.3777298;-76.3066567
X-APPLE-STRUCTURED-LOCATION;VALUE=URI;X-ADDRESS=Myerstown Community Library 199 N College St Myerstown PA 17067 United States;X-APPLE-RADIUS=500;X-TITLE=199 N College St:geo:-76.3066567,40.3777298
END:VEVENT
BEGIN:VEVENT
DTSTART;TZID=America/New_York:20300906T103000
DTEND;TZID=America/New_York:20300906T113000
DTSTAMP:20260420T090800
CREATED:20240301T221203Z
LAST-MODIFIED:20260112T225752Z
UID:10008184-1914921000-1914924600@lclibs.org
SUMMARY:Preschool Story Time @ MCL
DESCRIPTION:Join in the fun with stories\, songs\, and more that encourage development of Early Literacy skills in young children.
URL:https://lclibs.org/event/preschool-story-time-mcl/2030-09-06/
LOCATION:Myerstown Community Library\, 199 N College St\, Myerstown\, PA\, 17067\, United States
CATEGORIES:Children,Myerstown Community Library,Storytime
ORGANIZER;CN="Sarah Bair":MAILTO:sbair@lclibs.org
GEO:40.3777298;-76.3066567
X-APPLE-STRUCTURED-LOCATION;VALUE=URI;X-ADDRESS=Myerstown Community Library 199 N College St Myerstown PA 17067 United States;X-APPLE-RADIUS=500;X-TITLE=199 N College St:geo:-76.3066567,40.3777298
END:VEVENT
BEGIN:VEVENT
DTSTART;TZID=America/New_York:20300909T153000
DTEND;TZID=America/New_York:20300909T163000
DTSTAMP:20260420T090800
CREATED:20251219T171159Z
LAST-MODIFIED:20260112T234800Z
UID:10008313-1915198200-1915201800@lclibs.org
SUMMARY:BYOB Jr. @MCL
DESCRIPTION:Are you a chapter book reader who wants to chat about what you’ve been reading lately? Join us for cookies and conversation at the library! Bring Your Own Book and be ready to share. No registration required.
URL:https://lclibs.org/event/byob-jr-mcl/2030-09-09/
LOCATION:Myerstown Community Library\, 199 N College St\, Myerstown\, PA\, 17067\, United States
CATEGORIES:Book Club,Book Discussion,Lebanon County Libraries,Myerstown Community Library,Tweens
ORGANIZER;CN="Sarah Bair":MAILTO:sbair@lclibs.org
GEO:40.3777298;-76.3066567
X-APPLE-STRUCTURED-LOCATION;VALUE=URI;X-ADDRESS=Myerstown Community Library 199 N College St Myerstown PA 17067 United States;X-APPLE-RADIUS=500;X-TITLE=199 N College St:geo:-76.3066567,40.3777298
END:VEVENT
BEGIN:VEVENT
DTSTART;TZID=America/New_York:20300913T103000
DTEND;TZID=America/New_York:20300913T113000
DTSTAMP:20260420T090800
CREATED:20240301T221203Z
LAST-MODIFIED:20260112T225752Z
UID:10008185-1915525800-1915529400@lclibs.org
SUMMARY:Preschool Story Time @ MCL
DESCRIPTION:Join in the fun with stories\, songs\, and more that encourage development of Early Literacy skills in young children.
URL:https://lclibs.org/event/preschool-story-time-mcl/2030-09-13/
LOCATION:Myerstown Community Library\, 199 N College St\, Myerstown\, PA\, 17067\, United States
CATEGORIES:Children,Myerstown Community Library,Storytime
ORGANIZER;CN="Sarah Bair":MAILTO:sbair@lclibs.org
GEO:40.3777298;-76.3066567
X-APPLE-STRUCTURED-LOCATION;VALUE=URI;X-ADDRESS=Myerstown Community Library 199 N College St Myerstown PA 17067 United States;X-APPLE-RADIUS=500;X-TITLE=199 N College St:geo:-76.3066567,40.3777298
END:VEVENT
BEGIN:VEVENT
DTSTART;TZID=America/New_York:20300916T153000
DTEND;TZID=America/New_York:20300916T163000
DTSTAMP:20260420T090800
CREATED:20240212T194936Z
LAST-MODIFIED:20251223T210726Z
UID:10008520-1915803000-1915806600@lclibs.org
SUMMARY:PokeMondays @MCL
DESCRIPTION:Bring your deck or devices to play. No previous experience required!
URL:https://lclibs.org/event/pokemondays-mcl/2030-09-16/
LOCATION:Myerstown Community Library\, 199 N College St\, Myerstown\, PA\, 17067\, United States
CATEGORIES:Children,Myerstown Community Library
ORGANIZER;CN="Sarah Bair":MAILTO:sbair@lclibs.org
GEO:40.3777298;-76.3066567
X-APPLE-STRUCTURED-LOCATION;VALUE=URI;X-ADDRESS=Myerstown Community Library 199 N College St Myerstown PA 17067 United States;X-APPLE-RADIUS=500;X-TITLE=199 N College St:geo:-76.3066567,40.3777298
END:VEVENT
BEGIN:VEVENT
DTSTART;TZID=America/New_York:20300917T183000
DTEND;TZID=America/New_York:20300917T200000
DTSTAMP:20260420T090800
CREATED:20251219T174825Z
LAST-MODIFIED:20251219T174826Z
UID:10008321-1915900200-1915905600@lclibs.org
SUMMARY:Library Board Meeting @MCL
DESCRIPTION:The Library Board meets on the third Tuesday of each month at 6:30pm. These meetings are open to the public and are subject to change without notice.
URL:https://lclibs.org/event/library-board-meeting-mcl-2/2030-09-17/
LOCATION:Myerstown Community Library\, 199 N College St\, Myerstown\, PA\, 17067\, United States
CATEGORIES:Board Meeting,Myerstown Community Library
ORGANIZER;CN="Sarah Bair":MAILTO:sbair@lclibs.org
GEO:40.3777298;-76.3066567
X-APPLE-STRUCTURED-LOCATION;VALUE=URI;X-ADDRESS=Myerstown Community Library 199 N College St Myerstown PA 17067 United States;X-APPLE-RADIUS=500;X-TITLE=199 N College St:geo:-76.3066567,40.3777298
END:VEVENT
BEGIN:VEVENT
DTSTART;TZID=America/New_York:20300918T130000
DTEND;TZID=America/New_York:20300918T150000
DTSTAMP:20260420T090800
CREATED:20251222T192832Z
LAST-MODIFIED:20251222T192832Z
UID:10008501-1915966800-1915974000@lclibs.org
SUMMARY:Lace Lovers @MCL
DESCRIPTION:A place to talk\, ask questions\, and share your love of lace\, knitting\, crocheting and everything that goes with it. No registration required!
URL:https://lclibs.org/event/lace-lovers-mcl-4/2030-09-18/
LOCATION:Myerstown Community Library\, 199 N College St\, Myerstown\, PA\, 17067\, United States
CATEGORIES:Adult program,Crafts,Lebanon County Libraries,Myerstown Community Library
ORGANIZER;CN="Sarah Bair":MAILTO:sbair@lclibs.org
GEO:40.3777298;-76.3066567
X-APPLE-STRUCTURED-LOCATION;VALUE=URI;X-ADDRESS=Myerstown Community Library 199 N College St Myerstown PA 17067 United States;X-APPLE-RADIUS=500;X-TITLE=199 N College St:geo:-76.3066567,40.3777298
END:VEVENT
BEGIN:VEVENT
DTSTART;TZID=America/New_York:20300920T103000
DTEND;TZID=America/New_York:20300920T113000
DTSTAMP:20260420T090800
CREATED:20240301T221203Z
LAST-MODIFIED:20260112T225752Z
UID:10008186-1916130600-1916134200@lclibs.org
SUMMARY:Preschool Story Time @ MCL
DESCRIPTION:Join in the fun with stories\, songs\, and more that encourage development of Early Literacy skills in young children.
URL:https://lclibs.org/event/preschool-story-time-mcl/2030-09-20/
LOCATION:Myerstown Community Library\, 199 N College St\, Myerstown\, PA\, 17067\, United States
CATEGORIES:Children,Myerstown Community Library,Storytime
ORGANIZER;CN="Sarah Bair":MAILTO:sbair@lclibs.org
GEO:40.3777298;-76.3066567
X-APPLE-STRUCTURED-LOCATION;VALUE=URI;X-ADDRESS=Myerstown Community Library 199 N College St Myerstown PA 17067 United States;X-APPLE-RADIUS=500;X-TITLE=199 N College St:geo:-76.3066567,40.3777298
END:VEVENT
BEGIN:VEVENT
DTSTART;TZID=America/New_York:20300921T110000
DTEND;TZID=America/New_York:20300921T120000
DTSTAMP:20260420T090800
CREATED:20260414T165717Z
LAST-MODIFIED:20260414T193107Z
UID:10008508-1916218800-1916222400@lclibs.org
SUMMARY:STEAM Saturdays @ MCL
DESCRIPTION:Registration required. Recommended for ages 8-14.\n\nSTEAM stands for Science Technology Engineering Art and Math! “STEAM” Saturdays allow children to partake in building challenges\, experiments\, robotics\, and more!
URL:https://lclibs.org/event/steam-saturdays-mcl-2/2030-09-21/
LOCATION:Myerstown Community Library\, 199 N College St\, Myerstown\, PA\, 17067\, United States
CATEGORIES:Children,Myerstown Community Library
ORGANIZER;CN="Sarah Bair":MAILTO:sbair@lclibs.org
GEO:40.3777298;-76.3066567
X-APPLE-STRUCTURED-LOCATION;VALUE=URI;X-ADDRESS=Myerstown Community Library 199 N College St Myerstown PA 17067 United States;X-APPLE-RADIUS=500;X-TITLE=199 N College St:geo:-76.3066567,40.3777298
END:VEVENT
BEGIN:VEVENT
DTSTART;TZID=America/New_York:20300926T173000
DTEND;TZID=America/New_York:20300926T183000
DTSTAMP:20260420T090800
CREATED:20251224T154323Z
LAST-MODIFIED:20260113T003145Z
UID:10008580-1916674200-1916677800@lclibs.org
SUMMARY:Explorations in Music @MCL
DESCRIPTION:Join us for discussions on genre\, influence\, and music culture! Topics change monthly. No registration required. Lead by Greg Underkoffler.
URL:https://lclibs.org/event/explorations-in-music-mcl-3/2030-09-26/
LOCATION:Myerstown Community Library\, 199 N College St\, Myerstown\, PA\, 17067\, United States
CATEGORIES:Adult program,Lebanon County Libraries,Music,Myerstown Community Library
ORGANIZER;CN="Sarah Bair":MAILTO:sbair@lclibs.org
GEO:40.3777298;-76.3066567
X-APPLE-STRUCTURED-LOCATION;VALUE=URI;X-ADDRESS=Myerstown Community Library 199 N College St Myerstown PA 17067 United States;X-APPLE-RADIUS=500;X-TITLE=199 N College St:geo:-76.3066567,40.3777298
END:VEVENT
BEGIN:VEVENT
DTSTART;TZID=America/New_York:20300927T103000
DTEND;TZID=America/New_York:20300927T113000
DTSTAMP:20260420T090800
CREATED:20240301T221203Z
LAST-MODIFIED:20260112T225752Z
UID:10008187-1916735400-1916739000@lclibs.org
SUMMARY:Preschool Story Time @ MCL
DESCRIPTION:Join in the fun with stories\, songs\, and more that encourage development of Early Literacy skills in young children.
URL:https://lclibs.org/event/preschool-story-time-mcl/2030-09-27/
LOCATION:Myerstown Community Library\, 199 N College St\, Myerstown\, PA\, 17067\, United States
CATEGORIES:Children,Myerstown Community Library,Storytime
ORGANIZER;CN="Sarah Bair":MAILTO:sbair@lclibs.org
GEO:40.3777298;-76.3066567
X-APPLE-STRUCTURED-LOCATION;VALUE=URI;X-ADDRESS=Myerstown Community Library 199 N College St Myerstown PA 17067 United States;X-APPLE-RADIUS=500;X-TITLE=199 N College St:geo:-76.3066567,40.3777298
END:VEVENT
BEGIN:VEVENT
DTSTART;TZID=America/New_York:20300928T110000
DTEND;TZID=America/New_York:20300928T120000
DTSTAMP:20260420T090800
CREATED:20240212T202017Z
LAST-MODIFIED:20260113T002217Z
UID:10008626-1916823600-1916827200@lclibs.org
SUMMARY:BYOB Book Club @MCL
DESCRIPTION:BYOB – Bring Your Own Book Club! We discuss our favorite books and current reads.
URL:https://lclibs.org/event/byob-book-club-mcl/2030-09-28/
LOCATION:Myerstown Community Library\, 199 N College St\, Myerstown\, PA\, 17067\, United States
CATEGORIES:Adult program,Book Club,Book Discussion,Myerstown Community Library
ORGANIZER;CN="Sarah Bair":MAILTO:sbair@lclibs.org
GEO:40.3777298;-76.3066567
X-APPLE-STRUCTURED-LOCATION;VALUE=URI;X-ADDRESS=Myerstown Community Library 199 N College St Myerstown PA 17067 United States;X-APPLE-RADIUS=500;X-TITLE=199 N College St:geo:-76.3066567,40.3777298
END:VEVENT
BEGIN:VEVENT
DTSTART;TZID=America/New_York:20301002T130000
DTEND;TZID=America/New_York:20301002T150000
DTSTAMP:20260420T090800
CREATED:20251222T191720Z
LAST-MODIFIED:20251222T191720Z
UID:10008382-1917176400-1917183600@lclibs.org
SUMMARY:Lace Lovers @MCL
DESCRIPTION:A place to talk\, ask questions\, and share your love of lace\, knitting\, crocheting and everything that goes with it. No registration required!
URL:https://lclibs.org/event/lace-lovers-mcl-3/2030-10-02/
LOCATION:Myerstown Community Library\, 199 N College St\, Myerstown\, PA\, 17067\, United States
CATEGORIES:Adult program,Crafts,Lebanon County Libraries,Myerstown Community Library
ORGANIZER;CN="Sarah Bair":MAILTO:sbair@lclibs.org
GEO:40.3777298;-76.3066567
X-APPLE-STRUCTURED-LOCATION;VALUE=URI;X-ADDRESS=Myerstown Community Library 199 N College St Myerstown PA 17067 United States;X-APPLE-RADIUS=500;X-TITLE=199 N College St:geo:-76.3066567,40.3777298
END:VEVENT
BEGIN:VEVENT
DTSTART;TZID=America/New_York:20301004T103000
DTEND;TZID=America/New_York:20301004T113000
DTSTAMP:20260420T090800
CREATED:20240301T221203Z
LAST-MODIFIED:20260112T225752Z
UID:10008188-1917340200-1917343800@lclibs.org
SUMMARY:Preschool Story Time @ MCL
DESCRIPTION:Join in the fun with stories\, songs\, and more that encourage development of Early Literacy skills in young children.
URL:https://lclibs.org/event/preschool-story-time-mcl/2030-10-04/
LOCATION:Myerstown Community Library\, 199 N College St\, Myerstown\, PA\, 17067\, United States
CATEGORIES:Children,Myerstown Community Library,Storytime
ORGANIZER;CN="Sarah Bair":MAILTO:sbair@lclibs.org
GEO:40.3777298;-76.3066567
X-APPLE-STRUCTURED-LOCATION;VALUE=URI;X-ADDRESS=Myerstown Community Library 199 N College St Myerstown PA 17067 United States;X-APPLE-RADIUS=500;X-TITLE=199 N College St:geo:-76.3066567,40.3777298
END:VEVENT
BEGIN:VEVENT
DTSTART;TZID=America/New_York:20301007T153000
DTEND;TZID=America/New_York:20301007T163000
DTSTAMP:20260420T090800
CREATED:20251219T170343Z
LAST-MODIFIED:20251219T170343Z
UID:10008254-1917617400-1917621000@lclibs.org
SUMMARY:BYOB Teen+ @MCL
DESCRIPTION:Are you into YA books and graphic novels? Do you want to chat about what you are reading? Join us for a fun Bring Your Own Book\, book club! Open to grades 9th and up. No registration required. Themes change monthly\, or come prepared to discuss your most recent read!
URL:https://lclibs.org/event/byob-teen-mcl/2030-10-07/
LOCATION:Myerstown Community Library\, 199 N College St\, Myerstown\, PA\, 17067\, United States
CATEGORIES:Book Club,Book Discussion,Lebanon County Libraries,Myerstown Community Library,Teens
ORGANIZER;CN="Sarah Bair":MAILTO:sbair@lclibs.org
GEO:40.3777298;-76.3066567
X-APPLE-STRUCTURED-LOCATION;VALUE=URI;X-ADDRESS=Myerstown Community Library 199 N College St Myerstown PA 17067 United States;X-APPLE-RADIUS=500;X-TITLE=199 N College St:geo:-76.3066567,40.3777298
END:VEVENT
BEGIN:VEVENT
DTSTART;TZID=America/New_York:20301011T103000
DTEND;TZID=America/New_York:20301011T113000
DTSTAMP:20260420T090800
CREATED:20240301T221203Z
LAST-MODIFIED:20260112T225752Z
UID:10008189-1917945000-1917948600@lclibs.org
SUMMARY:Preschool Story Time @ MCL
DESCRIPTION:Join in the fun with stories\, songs\, and more that encourage development of Early Literacy skills in young children.
URL:https://lclibs.org/event/preschool-story-time-mcl/2030-10-11/
LOCATION:Myerstown Community Library\, 199 N College St\, Myerstown\, PA\, 17067\, United States
CATEGORIES:Children,Myerstown Community Library,Storytime
ORGANIZER;CN="Sarah Bair":MAILTO:sbair@lclibs.org
GEO:40.3777298;-76.3066567
X-APPLE-STRUCTURED-LOCATION;VALUE=URI;X-ADDRESS=Myerstown Community Library 199 N College St Myerstown PA 17067 United States;X-APPLE-RADIUS=500;X-TITLE=199 N College St:geo:-76.3066567,40.3777298
END:VEVENT
BEGIN:VEVENT
DTSTART;TZID=America/New_York:20301014T153000
DTEND;TZID=America/New_York:20301014T163000
DTSTAMP:20260420T090800
CREATED:20251219T171159Z
LAST-MODIFIED:20260112T234800Z
UID:10008314-1918222200-1918225800@lclibs.org
SUMMARY:BYOB Jr. @MCL
DESCRIPTION:Are you a chapter book reader who wants to chat about what you’ve been reading lately? Join us for cookies and conversation at the library! Bring Your Own Book and be ready to share. No registration required.
URL:https://lclibs.org/event/byob-jr-mcl/2030-10-14/
LOCATION:Myerstown Community Library\, 199 N College St\, Myerstown\, PA\, 17067\, United States
CATEGORIES:Book Club,Book Discussion,Lebanon County Libraries,Myerstown Community Library,Tweens
ORGANIZER;CN="Sarah Bair":MAILTO:sbair@lclibs.org
GEO:40.3777298;-76.3066567
X-APPLE-STRUCTURED-LOCATION;VALUE=URI;X-ADDRESS=Myerstown Community Library 199 N College St Myerstown PA 17067 United States;X-APPLE-RADIUS=500;X-TITLE=199 N College St:geo:-76.3066567,40.3777298
END:VEVENT
BEGIN:VEVENT
DTSTART;TZID=America/New_York:20301015T183000
DTEND;TZID=America/New_York:20301015T200000
DTSTAMP:20260420T090800
CREATED:20251219T174825Z
LAST-MODIFIED:20251219T174826Z
UID:10008322-1918319400-1918324800@lclibs.org
SUMMARY:Library Board Meeting @MCL
DESCRIPTION:The Library Board meets on the third Tuesday of each month at 6:30pm. These meetings are open to the public and are subject to change without notice.
URL:https://lclibs.org/event/library-board-meeting-mcl-2/2030-10-15/
LOCATION:Myerstown Community Library\, 199 N College St\, Myerstown\, PA\, 17067\, United States
CATEGORIES:Board Meeting,Myerstown Community Library
ORGANIZER;CN="Sarah Bair":MAILTO:sbair@lclibs.org
GEO:40.3777298;-76.3066567
X-APPLE-STRUCTURED-LOCATION;VALUE=URI;X-ADDRESS=Myerstown Community Library 199 N College St Myerstown PA 17067 United States;X-APPLE-RADIUS=500;X-TITLE=199 N College St:geo:-76.3066567,40.3777298
END:VEVENT
BEGIN:VEVENT
DTSTART;TZID=America/New_York:20301016T130000
DTEND;TZID=America/New_York:20301016T150000
DTSTAMP:20260420T090800
CREATED:20251222T192832Z
LAST-MODIFIED:20251222T192832Z
UID:10008502-1918386000-1918393200@lclibs.org
SUMMARY:Lace Lovers @MCL
DESCRIPTION:A place to talk\, ask questions\, and share your love of lace\, knitting\, crocheting and everything that goes with it. No registration required!
URL:https://lclibs.org/event/lace-lovers-mcl-4/2030-10-16/
LOCATION:Myerstown Community Library\, 199 N College St\, Myerstown\, PA\, 17067\, United States
CATEGORIES:Adult program,Crafts,Lebanon County Libraries,Myerstown Community Library
ORGANIZER;CN="Sarah Bair":MAILTO:sbair@lclibs.org
GEO:40.3777298;-76.3066567
X-APPLE-STRUCTURED-LOCATION;VALUE=URI;X-ADDRESS=Myerstown Community Library 199 N College St Myerstown PA 17067 United States;X-APPLE-RADIUS=500;X-TITLE=199 N College St:geo:-76.3066567,40.3777298
END:VEVENT
BEGIN:VEVENT
DTSTART;TZID=America/New_York:20301018T103000
DTEND;TZID=America/New_York:20301018T113000
DTSTAMP:20260420T090800
CREATED:20240301T221203Z
LAST-MODIFIED:20260112T225752Z
UID:10008190-1918549800-1918553400@lclibs.org
SUMMARY:Preschool Story Time @ MCL
DESCRIPTION:Join in the fun with stories\, songs\, and more that encourage development of Early Literacy skills in young children.
URL:https://lclibs.org/event/preschool-story-time-mcl/2030-10-18/
LOCATION:Myerstown Community Library\, 199 N College St\, Myerstown\, PA\, 17067\, United States
CATEGORIES:Children,Myerstown Community Library,Storytime
ORGANIZER;CN="Sarah Bair":MAILTO:sbair@lclibs.org
GEO:40.3777298;-76.3066567
X-APPLE-STRUCTURED-LOCATION;VALUE=URI;X-ADDRESS=Myerstown Community Library 199 N College St Myerstown PA 17067 United States;X-APPLE-RADIUS=500;X-TITLE=199 N College St:geo:-76.3066567,40.3777298
END:VEVENT
BEGIN:VEVENT
DTSTART;TZID=America/New_York:20301019T110000
DTEND;TZID=America/New_York:20301019T120000
DTSTAMP:20260420T090800
CREATED:20260414T165717Z
LAST-MODIFIED:20260414T193107Z
UID:10008509-1918638000-1918641600@lclibs.org
SUMMARY:STEAM Saturdays @ MCL
DESCRIPTION:Registration required. Recommended for ages 8-14.\n\nSTEAM stands for Science Technology Engineering Art and Math! “STEAM” Saturdays allow children to partake in building challenges\, experiments\, robotics\, and more!
URL:https://lclibs.org/event/steam-saturdays-mcl-2/2030-10-19/
LOCATION:Myerstown Community Library\, 199 N College St\, Myerstown\, PA\, 17067\, United States
CATEGORIES:Children,Myerstown Community Library
ORGANIZER;CN="Sarah Bair":MAILTO:sbair@lclibs.org
GEO:40.3777298;-76.3066567
X-APPLE-STRUCTURED-LOCATION;VALUE=URI;X-ADDRESS=Myerstown Community Library 199 N College St Myerstown PA 17067 United States;X-APPLE-RADIUS=500;X-TITLE=199 N College St:geo:-76.3066567,40.3777298
END:VEVENT
BEGIN:VEVENT
DTSTART;TZID=America/New_York:20301021T153000
DTEND;TZID=America/New_York:20301021T163000
DTSTAMP:20260420T090800
CREATED:20240212T194936Z
LAST-MODIFIED:20251223T210726Z
UID:10008521-1918827000-1918830600@lclibs.org
SUMMARY:PokeMondays @MCL
DESCRIPTION:Bring your deck or devices to play. No previous experience required!
URL:https://lclibs.org/event/pokemondays-mcl/2030-10-21/
LOCATION:Myerstown Community Library\, 199 N College St\, Myerstown\, PA\, 17067\, United States
CATEGORIES:Children,Myerstown Community Library
ORGANIZER;CN="Sarah Bair":MAILTO:sbair@lclibs.org
GEO:40.3777298;-76.3066567
X-APPLE-STRUCTURED-LOCATION;VALUE=URI;X-ADDRESS=Myerstown Community Library 199 N College St Myerstown PA 17067 United States;X-APPLE-RADIUS=500;X-TITLE=199 N College St:geo:-76.3066567,40.3777298
END:VEVENT
END:VCALENDAR