BEGIN:VCALENDAR
VERSION:2.0
PRODID:-//Lebanon County Library System - ECPv6.15.17.1//NONSGML v1.0//EN
CALSCALE:GREGORIAN
METHOD:PUBLISH
X-ORIGINAL-URL:https://lclibs.org
X-WR-CALDESC:Events for Lebanon County Library System
REFRESH-INTERVAL;VALUE=DURATION:PT1H
X-Robots-Tag:noindex
X-PUBLISHED-TTL:PT1H
BEGIN:VTIMEZONE
TZID:America/New_York
BEGIN:DAYLIGHT
TZOFFSETFROM:-0500
TZOFFSETTO:-0400
TZNAME:EDT
DTSTART:20300310T070000
END:DAYLIGHT
BEGIN:STANDARD
TZOFFSETFROM:-0400
TZOFFSETTO:-0500
TZNAME:EST
DTSTART:20301103T060000
END:STANDARD
BEGIN:DAYLIGHT
TZOFFSETFROM:-0500
TZOFFSETTO:-0400
TZNAME:EDT
DTSTART:20310309T070000
END:DAYLIGHT
BEGIN:STANDARD
TZOFFSETFROM:-0400
TZOFFSETTO:-0500
TZNAME:EST
DTSTART:20311102T060000
END:STANDARD
BEGIN:DAYLIGHT
TZOFFSETFROM:-0500
TZOFFSETTO:-0400
TZNAME:EDT
DTSTART:20320314T070000
END:DAYLIGHT
BEGIN:STANDARD
TZOFFSETFROM:-0400
TZOFFSETTO:-0500
TZNAME:EST
DTSTART:20321107T060000
END:STANDARD
END:VTIMEZONE
BEGIN:VEVENT
DTSTART;TZID=America/New_York:20310110T103000
DTEND;TZID=America/New_York:20310110T113000
DTSTAMP:20260420T181139
CREATED:20240301T221203Z
LAST-MODIFIED:20260112T225752Z
UID:10008609-1925807400-1925811000@lclibs.org
SUMMARY:Preschool Story Time @ MCL
DESCRIPTION:Join in the fun with stories\, songs\, and more that encourage development of Early Literacy skills in young children.
URL:https://lclibs.org/event/preschool-story-time-mcl/2031-01-10/
LOCATION:Myerstown Community Library\, 199 N College St\, Myerstown\, PA\, 17067\, United States
CATEGORIES:Children,Myerstown Community Library,Storytime
ORGANIZER;CN="Sarah Bair":MAILTO:sbair@lclibs.org
GEO:40.3777298;-76.3066567
X-APPLE-STRUCTURED-LOCATION;VALUE=URI;X-ADDRESS=Myerstown Community Library 199 N College St Myerstown PA 17067 United States;X-APPLE-RADIUS=500;X-TITLE=199 N College St:geo:-76.3066567,40.3777298
END:VEVENT
BEGIN:VEVENT
DTSTART;TZID=America/New_York:20310118T110000
DTEND;TZID=America/New_York:20310118T120000
DTSTAMP:20260420T181139
CREATED:20260414T165717Z
LAST-MODIFIED:20260414T193107Z
UID:10008840-1926500400-1926504000@lclibs.org
SUMMARY:STEAM Saturdays @ MCL
DESCRIPTION:Registration required. Recommended for ages 8-14.\n\nSTEAM stands for Science Technology Engineering Art and Math! “STEAM” Saturdays allow children to partake in building challenges\, experiments\, robotics\, and more!
URL:https://lclibs.org/event/steam-saturdays-mcl-2/2031-01-18/
LOCATION:Myerstown Community Library\, 199 N College St\, Myerstown\, PA\, 17067\, United States
CATEGORIES:Children,Myerstown Community Library
ORGANIZER;CN="Sarah Bair":MAILTO:sbair@lclibs.org
GEO:40.3777298;-76.3066567
X-APPLE-STRUCTURED-LOCATION;VALUE=URI;X-ADDRESS=Myerstown Community Library 199 N College St Myerstown PA 17067 United States;X-APPLE-RADIUS=500;X-TITLE=199 N College St:geo:-76.3066567,40.3777298
END:VEVENT
BEGIN:VEVENT
DTSTART;TZID=America/New_York:20310215T110000
DTEND;TZID=America/New_York:20310215T120000
DTSTAMP:20260420T181139
CREATED:20260414T165717Z
LAST-MODIFIED:20260414T193107Z
UID:10008841-1928919600-1928923200@lclibs.org
SUMMARY:STEAM Saturdays @ MCL
DESCRIPTION:Registration required. Recommended for ages 8-14.\n\nSTEAM stands for Science Technology Engineering Art and Math! “STEAM” Saturdays allow children to partake in building challenges\, experiments\, robotics\, and more!
URL:https://lclibs.org/event/steam-saturdays-mcl-2/2031-02-15/
LOCATION:Myerstown Community Library\, 199 N College St\, Myerstown\, PA\, 17067\, United States
CATEGORIES:Children,Myerstown Community Library
ORGANIZER;CN="Sarah Bair":MAILTO:sbair@lclibs.org
GEO:40.3777298;-76.3066567
X-APPLE-STRUCTURED-LOCATION;VALUE=URI;X-ADDRESS=Myerstown Community Library 199 N College St Myerstown PA 17067 United States;X-APPLE-RADIUS=500;X-TITLE=199 N College St:geo:-76.3066567,40.3777298
END:VEVENT
BEGIN:VEVENT
DTSTART;TZID=America/New_York:20310315T110000
DTEND;TZID=America/New_York:20310315T120000
DTSTAMP:20260420T181139
CREATED:20260414T165717Z
LAST-MODIFIED:20260414T193107Z
UID:10008842-1931338800-1931342400@lclibs.org
SUMMARY:STEAM Saturdays @ MCL
DESCRIPTION:Registration required. Recommended for ages 8-14.\n\nSTEAM stands for Science Technology Engineering Art and Math! “STEAM” Saturdays allow children to partake in building challenges\, experiments\, robotics\, and more!
URL:https://lclibs.org/event/steam-saturdays-mcl-2/2031-03-15/
LOCATION:Myerstown Community Library\, 199 N College St\, Myerstown\, PA\, 17067\, United States
CATEGORIES:Children,Myerstown Community Library
ORGANIZER;CN="Sarah Bair":MAILTO:sbair@lclibs.org
GEO:40.3777298;-76.3066567
X-APPLE-STRUCTURED-LOCATION;VALUE=URI;X-ADDRESS=Myerstown Community Library 199 N College St Myerstown PA 17067 United States;X-APPLE-RADIUS=500;X-TITLE=199 N College St:geo:-76.3066567,40.3777298
END:VEVENT
END:VCALENDAR